BEGIN:VCALENDAR
VERSION:2.0
PRODID:-//BallotTrax - ECPv6.14.1//NONSGML v1.0//EN
CALSCALE:GREGORIAN
METHOD:PUBLISH
X-WR-CALNAME:BallotTrax
X-ORIGINAL-URL:https://ballottrax.com
X-WR-CALDESC:Events for BallotTrax
REFRESH-INTERVAL;VALUE=DURATION:PT1H
X-Robots-Tag:noindex
X-PUBLISHED-TTL:PT1H
BEGIN:VTIMEZONE
TZID:UTC
BEGIN:STANDARD
TZOFFSETFROM:+0000
TZOFFSETTO:+0000
TZNAME:UTC
DTSTART:20180101T000000
END:STANDARD
END:VTIMEZONE
BEGIN:VEVENT
DTSTART;VALUE=DATE:20190910
DTEND;VALUE=DATE:20190913
DTSTAMP:20260422T102013
CREATED:20190610T182613Z
LAST-MODIFIED:20210729T171045Z
UID:730-1568073600-1568332799@ballottrax.com
SUMMARY:Global Election Technology Summit
DESCRIPTION:The GET Summit is a multi-day conference and networking event convening leaders in the rapidly evolving space of election technology. This nonpartisan event provides a forum to build the technology infrastructure that enables innovation in election technology. Attendees include government officials\, private industry\, academia\, media\, and civil society organizations. \nJoin us for this biennial gathering of elected officials\, election administrators\, policy makers\, technologists\, security professionals\, and other stakeholders committed to preserving election integrity and leveraging cutting-edge technology to improve election systems around the world.
URL:https://ballottrax.com/event/global-election-technology-summit/
LOCATION:ID
CATEGORIES:Conference
ATTACH;FMTTYPE=image/jpeg:https://ballottrax.com/wp-content/uploads/2019/06/Global-Election-Technology-Summit.jpg
END:VEVENT
BEGIN:VEVENT
DTSTART;VALUE=DATE:20190903
DTEND;VALUE=DATE:20190907
DTSTAMP:20260422T102013
CREATED:20190610T182325Z
LAST-MODIFIED:20210729T171050Z
UID:725-1567468800-1567814399@ballottrax.com
SUMMARY:New York State Election Commissioners Association (NYSECA)
DESCRIPTION:
URL:https://ballottrax.com/event/new-york-state-election-commissioners-association-nyseca/
LOCATION:Holiday Inn Saratoga Springs\, 232 Broadway\, Saratoga Springs\, NY\, 12866\, United States
CATEGORIES:Conference
ATTACH;FMTTYPE=image/png:https://ballottrax.com/wp-content/uploads/2019/06/NYSECA-New-York-State-Election-Commissioners-Association.png
END:VEVENT
BEGIN:VEVENT
DTSTART;VALUE=DATE:20190827
DTEND;VALUE=DATE:20190831
DTSTAMP:20260422T102013
CREATED:20190610T181721Z
LAST-MODIFIED:20210729T171104Z
UID:718-1566864000-1567209599@ballottrax.com
SUMMARY:Missouri Association of County Clerk's and Election Authorities (MACCEA)
DESCRIPTION:Please join us for the 113th Missouri Association of County Clerks and Election Authorities Annual Conference August 27- 30\, 2019 at The Lodge of Four Seasons in Lake Ozark\, MO. There will be an estimated 200 staff attending who will want to talk with representatives from companies and organizations about their products and services.
URL:https://ballottrax.com/event/missouri-association-of-county-clerks-and-election-authorities-maccea/
LOCATION:The Lodge of Four Seasons\, 315 Four Seasons Drive\, Lake Ozark\, MO\, 65049\, United States
CATEGORIES:Conference
ATTACH;FMTTYPE=image/png:https://ballottrax.com/wp-content/uploads/2019/06/MACCEA.png
END:VEVENT
BEGIN:VEVENT
DTSTART;VALUE=DATE:20190821
DTEND;VALUE=DATE:20190824
DTSTAMP:20260422T102013
CREATED:20190610T192736Z
LAST-MODIFIED:20210729T171109Z
UID:771-1566345600-1566604799@ballottrax.com
SUMMARY:Iowa State Association of Counties Annual Conference (ISAC)
DESCRIPTION:Get ready for the ISAC Annual Conference. This is going to be an unforgettable event that will feature a great agenda and a casual feel with a lot of education\, networking\, and activities.
URL:https://ballottrax.com/event/iowa-state-association-of-counties-annual-conference-isac/
LOCATION:Community Choice Credit Union Convention Center\, 833 5th Ave.\, Des Moines\,\, IA\, 50309\, United States
CATEGORIES:Conference
ATTACH;FMTTYPE=image/jpeg:https://ballottrax.com/wp-content/uploads/2019/06/2019-ISAC-Annual-Conference-Logo-Small-e1556719699269.jpg
END:VEVENT
BEGIN:VEVENT
DTSTART;VALUE=DATE:20190819
DTEND;VALUE=DATE:20190823
DTSTAMP:20260422T102013
CREATED:20190610T181258Z
LAST-MODIFIED:20210729T171113Z
UID:712-1566172800-1566518399@ballottrax.com
SUMMARY:Oregon Association of County Clerks (OACC)
DESCRIPTION:
URL:https://ballottrax.com/event/oregon-association-of-county-clerks-oacc/
LOCATION:Eastern Oregon University\, One University Blvd.\, La Grande\, OR\, 97850\, United States
CATEGORIES:Conference
ATTACH;FMTTYPE=image/jpeg:https://ballottrax.com/wp-content/uploads/2019/06/Oregon-Association-of-County-Clerks.jpg
END:VEVENT
BEGIN:VEVENT
DTSTART;VALUE=DATE:20190817
DTEND;VALUE=DATE:20190822
DTSTAMP:20260422T102013
CREATED:20190610T164208Z
LAST-MODIFIED:20210729T171117Z
UID:707-1566000000-1566431999@ballottrax.com
SUMMARY:Election Center 35th Annual National Conference
DESCRIPTION:
URL:https://ballottrax.com/event/election-center-35th-annual-national-conference/
LOCATION:Hyatt Regency Grand Cypress\, One Grand Cypress Blvd.\, Orlando\, FL\, 32836\, United States
CATEGORIES:Conference
ATTACH;FMTTYPE=image/jpeg:https://ballottrax.com/wp-content/uploads/2019/06/Election-Center.jpg
END:VEVENT
BEGIN:VEVENT
DTSTART;VALUE=DATE:20190805
DTEND;VALUE=DATE:20190809
DTSTAMP:20260422T102013
CREATED:20190610T162643Z
LAST-MODIFIED:20210729T171136Z
UID:702-1564963200-1565308799@ballottrax.com
SUMMARY:National Conference of State Legislators (NCSL)
DESCRIPTION:Living legend Dolly Parton\, presidential historian Jon Meacham and social entrepreneur Wes Moore headline NCSL’s Legislative Summit in Nashville\,\nAug. 5-8\, where America’s state legislatures take center stage.
URL:https://ballottrax.com/event/national-conference-of-state-legislators-ncsl/
LOCATION:Music City Center\, 201 5th Ave. S.\, Nashville\, TN\, 37203\, United States
CATEGORIES:Conference
ATTACH;FMTTYPE=image/jpeg:https://ballottrax.com/wp-content/uploads/2019/06/National-Conference-of-State-Legislators.jpg
END:VEVENT
BEGIN:VEVENT
DTSTART;VALUE=DATE:20190804
DTEND;VALUE=DATE:20190808
DTSTAMP:20260422T102013
CREATED:20190610T161527Z
LAST-MODIFIED:20210729T171141Z
UID:695-1564876800-1565222399@ballottrax.com
SUMMARY:County Commissioners Association of Pennsylvania (CCAP)
DESCRIPTION:The CCAP Annual Conference and Trade Show is the Association’s premiere event\, hosting more than 500 guests over the duration. The Conference features timely speakers\, great educational sessions\, exhibitors and time with your colleagues. Members are also encouraged to bring their families to this summer Conference. Sponsorships and exhibit booths are available to vendors.
URL:https://ballottrax.com/event/county-commissioners-association-of-pennsylvania-ccap/
LOCATION:DoubleTree by Hilton Hotel Reading\, 701 Penn Street\, Reading\, PA\, 19601\, United States
CATEGORIES:Conference,Trade Show
ATTACH;FMTTYPE=image/jpeg:https://ballottrax.com/wp-content/uploads/2019/06/County-Commissioners-Association-of-Pennsylvania.jpg
END:VEVENT
BEGIN:VEVENT
DTSTART;VALUE=DATE:20190804
DTEND;VALUE=DATE:20190808
DTSTAMP:20260422T102013
CREATED:20190610T160326Z
LAST-MODIFIED:20210729T171144Z
UID:689-1564876800-1565222399@ballottrax.com
SUMMARY:South Carolina Association of Counties (SCAC)
DESCRIPTION:52nd Annual Conference. \nEach year\, SCAC’s Annual Conference provides a dynamic educational experience with opportunities for one-on-one interaction\, strategizing\, small group discussions and large group learning. More than 600 county officials—representing South Carolina’s 46 counties—gather to discuss challenges and opportunities\, share best practices and attend training sessions that strengthen their capacity to lead and serve.
URL:https://ballottrax.com/event/south-carolina-association-of-counties-scac/
LOCATION:Marriott Hilton Head Island\, 1 Hotel Circle\, Hilton Head Island\, SC\, 29928\, United States
CATEGORIES:Conference
ATTACH;FMTTYPE=image/jpeg:https://ballottrax.com/wp-content/uploads/2019/06/south-carolina-association-of-counties.jpg
END:VEVENT
BEGIN:VEVENT
DTSTART;VALUE=DATE:20190729
DTEND;VALUE=DATE:20190801
DTSTAMP:20260422T102013
CREATED:20190610T155421Z
LAST-MODIFIED:20210729T171149Z
UID:683-1564358400-1564617599@ballottrax.com
SUMMARY:Texas Secretary of State – 37th Annual Election Law Seminar for County Election Officials
DESCRIPTION:
URL:https://ballottrax.com/event/texas-sos-37th-annual-election-law-seminar-for-county-election-officials/
LOCATION:Renaissance Austin Hotel\, 9721 Arboretum Blvd.\, Austin\, TX\, 78759\, United States
CATEGORIES:Conference
ATTACH;FMTTYPE=image/jpeg:https://ballottrax.com/wp-content/uploads/2019/06/Texas-SoS-37th-Annual.jpg
END:VEVENT
BEGIN:VEVENT
DTSTART;TZID=UTC:20190723T090000
DTEND;TZID=UTC:20190726T160000
DTSTAMP:20260422T102013
CREATED:20190606T213346Z
LAST-MODIFIED:20210729T171228Z
UID:678-1563872400-1564156800@ballottrax.com
SUMMARY:California Association of Clerks and Election Officials (CACEO)
DESCRIPTION:The conference theme is “Bridges to 2020 and Beyond\,” and it is co-hosted and planned by Contra Costa and San Francisco counties.
URL:https://ballottrax.com/event/california-association-of-clerks-and-election-officials-caceo/
LOCATION:Hyatt Regency San Francisco Airport\, 1333 Old Bayshore Hwy\, Burlingame\, CA\, 94010\, United States
CATEGORIES:Conference
ATTACH;FMTTYPE=image/png:https://ballottrax.com/wp-content/uploads/2019/06/California-Association-of-Clerks-and-Election-Officials.png
END:VEVENT
BEGIN:VEVENT
DTSTART;VALUE=DATE:20190714
DTEND;VALUE=DATE:20190717
DTSTAMP:20260422T102013
CREATED:20190606T212609Z
LAST-MODIFIED:20210729T171233Z
UID:674-1563062400-1563321599@ballottrax.com
SUMMARY:National Association of State Election Directors (NASED)
DESCRIPTION:
URL:https://ballottrax.com/event/national-association-of-state-election-directors-nased/
LOCATION:ID
CATEGORIES:Conference
ATTACH;FMTTYPE=image/png:https://ballottrax.com/wp-content/uploads/2019/06/NASED-National-Association-of-State-Election-Directors.png
END:VEVENT
BEGIN:VEVENT
DTSTART;VALUE=DATE:20190712
DTEND;VALUE=DATE:20190719
DTSTAMP:20260422T102013
CREATED:20190606T210321Z
LAST-MODIFIED:20210729T171238Z
UID:658-1562889600-1563494399@ballottrax.com
SUMMARY:International Association of Government Officials – IGO (IACREOT)
DESCRIPTION:
URL:https://ballottrax.com/event/international-association-of-government-officials-igo-iacreot/
LOCATION:Marriott Marquis\, 1777 Walker Street\, Houston\, TX\, 77010\, United States
CATEGORIES:Conference
ATTACH;FMTTYPE=image/png:https://ballottrax.com/wp-content/uploads/2019/06/International-Association-of-Government-Officials.png
END:VEVENT
BEGIN:VEVENT
DTSTART;VALUE=DATE:20190712
DTEND;VALUE=DATE:20190716
DTSTAMP:20260422T102013
CREATED:20190606T211145Z
LAST-MODIFIED:20210729T171253Z
UID:664-1562889600-1563235199@ballottrax.com
SUMMARY:National Association of Counties (NACO)
DESCRIPTION:This year’s conference is co-headquartered at Paris Las Vegas and Bally’s Las Vegas\, connected by an indoor corridor with shops and restaurants. Committee meetings\, educational workshops\, the general session\, registration and the exhibit hall will be spread throughout both venues.
URL:https://ballottrax.com/event/national-association-of-counties-naco/
LOCATION:Paris Las Vegas\, 3655 S Las Vegas Blvd.\, Las Vegas\, NV\, 89109\, United States
CATEGORIES:Conference
ATTACH;FMTTYPE=image/png:https://ballottrax.com/wp-content/uploads/2019/06/NACO-National-Association-of-Counties.png
END:VEVENT
BEGIN:VEVENT
DTSTART;VALUE=DATE:20190711
DTEND;VALUE=DATE:20190713
DTSTAMP:20260422T102013
CREATED:20190606T202439Z
LAST-MODIFIED:20210729T171258Z
UID:654-1562803200-1562975999@ballottrax.com
SUMMARY:Election Sciences\, Reform & Administration
DESCRIPTION:
URL:https://ballottrax.com/event/election-sciences-reform-administration/
LOCATION:University of Pennsylvania\, Perelman Center for Political Science and Economics\, 133 S 36th St.\, Philadelphia\, PA\, 19104\, United States
CATEGORIES:Conference
ATTACH;FMTTYPE=image/jpeg:https://ballottrax.com/wp-content/uploads/2019/06/Election-Sciences-Reform-Administration.jpg
END:VEVENT
BEGIN:VEVENT
DTSTART;VALUE=DATE:20190630
DTEND;VALUE=DATE:20190704
DTSTAMP:20260422T102013
CREATED:20190606T195637Z
LAST-MODIFIED:20210729T171302Z
UID:645-1561852800-1562198399@ballottrax.com
SUMMARY:NASS Summer Conference
DESCRIPTION:
URL:https://ballottrax.com/event/nass-summer-conference/
LOCATION:Eldorado Hotel & Spa\, 309 W San Francisco St.\, Santa Fe\, NM\, 87501\, United States
CATEGORIES:Conference
ATTACH;FMTTYPE=image/jpeg:https://ballottrax.com/wp-content/uploads/2019/06/NASS-Summer-Conference.jpg
END:VEVENT
BEGIN:VEVENT
DTSTART;TZID=UTC:20190618T080000
DTEND;TZID=UTC:20190621T050000
DTSTAMP:20260422T102013
CREATED:20190606T193259Z
LAST-MODIFIED:20210729T171307Z
UID:641-1560844800-1561093200@ballottrax.com
SUMMARY:New Mexico Association of Counties (NMAC)
DESCRIPTION:NMC 83rd Annual Conference (Curry County)
URL:https://ballottrax.com/event/new-mexico-association-of-counties-nmac/
LOCATION:Clovis Civic Center\, 801 Schepps Boulevard\, Clovis\, NM\, 88101\, United States
CATEGORIES:Conference
ATTACH;FMTTYPE=image/jpeg:https://ballottrax.com/wp-content/uploads/2019/06/NMC-83rd-Annual-Conference-Curry-County.jpg
END:VEVENT
BEGIN:VEVENT
DTSTART;VALUE=DATE:20190617
DTEND;VALUE=DATE:20190620
DTSTAMP:20260422T102013
CREATED:20190606T190443Z
LAST-MODIFIED:20210729T171325Z
UID:636-1560729600-1560988799@ballottrax.com
SUMMARY:2019 Ohio Elections Officials Summer Conference
DESCRIPTION:
URL:https://ballottrax.com/event/2019-ohio-elections-officials-summer-conference/
LOCATION:The Hilton Columbus Downtown\, 401 N. High Street\, Columbus\, OH\, 43215\, United States
CATEGORIES:Conference
ATTACH;FMTTYPE=image/jpeg:https://ballottrax.com/wp-content/uploads/2019/06/2019-Ohio-Elections-Officials-Summer-Conference.jpg
END:VEVENT
BEGIN:VEVENT
DTSTART;VALUE=DATE:20190613
DTEND;VALUE=DATE:20190615
DTSTAMP:20260422T102013
CREATED:20190606T171843Z
LAST-MODIFIED:20210729T171328Z
UID:633-1560384000-1560556799@ballottrax.com
SUMMARY:2019 State Certification Testing of Voting Systems National Conference
DESCRIPTION:
URL:https://ballottrax.com/event/2019-state-certification-testing-of-voting-systems-national-conference/
LOCATION:California Secretary of State Office Building Auditorium\, 1500 11th St.\, Sacramento\, CA\, 95814\, United States
CATEGORIES:Conference
END:VEVENT
BEGIN:VEVENT
DTSTART;VALUE=DATE:20190612
DTEND;VALUE=DATE:20190615
DTSTAMP:20260422T102013
CREATED:20190606T165341Z
LAST-MODIFIED:20210729T171335Z
UID:620-1560297600-1560556799@ballottrax.com
SUMMARY:2019 EOA Educational Workshop & Trade Show
DESCRIPTION:Trade Show Hours\n8:00 a.m. to 5:30 p.m. Thursday\, June 13
URL:https://ballottrax.com/event/2019-eoa-educational-workshop-trade-show/
LOCATION:Hilton Phoenix Airport\, ​2435 S 47th Street\, Phoenix\, AZ\, 85034\, United States
CATEGORIES:Conference,Trade Show
ATTACH;FMTTYPE=image/jpeg:https://ballottrax.com/wp-content/uploads/2019/06/2019-EOA-Educational-Workshop-Trade-Show.jpg
END:VEVENT
BEGIN:VEVENT
DTSTART;VALUE=DATE:20190611
DTEND;VALUE=DATE:20190613
DTSTAMP:20260422T102013
CREATED:20190606T163032Z
LAST-MODIFIED:20210729T171340Z
UID:614-1560211200-1560383999@ballottrax.com
SUMMARY:Association of the Clerks of the Circuit Courts of Indiana (ACCIND)
DESCRIPTION:2019 Annual Clerk’s Conference\n 
URL:https://ballottrax.com/event/association-of-the-clerks-of-the-circuit-courts-of-indiana-accind/
LOCATION:Sheraton Indianapolis at Keystone Crossing\, 8787 Keystone Crossing\, Indianapolis\, IN\, 46240\, United States
CATEGORIES:Conference
ATTACH;FMTTYPE=image/jpeg:https://ballottrax.com/wp-content/uploads/2019/06/Association-of-the-Clerks-of-the-Circuit-Courts-of-Indiana.jpg
END:VEVENT
BEGIN:VEVENT
DTSTART;VALUE=DATE:20190610
DTEND;VALUE=DATE:20190614
DTSTAMP:20260422T102013
CREATED:20190606T162111Z
LAST-MODIFIED:20210729T171343Z
UID:575-1560124800-1560470399@ballottrax.com
SUMMARY:Washington State Association of County Auditors (WSACA)
DESCRIPTION:Annual and Elections Conferences
URL:https://ballottrax.com/event/washington-state-association-of-county-auditors-wsaca/
LOCATION:Hyatt Regency Lake Washington\, 1053 Lake Washington Blvd N.\, Renton\, 98056\, United States
CATEGORIES:Conference
ATTACH;FMTTYPE=image/jpeg:https://ballottrax.com/wp-content/uploads/2019/06/WSACA_2019_Elections_Aventri_Banner-1.jpg
ORGANIZER;CN="Washington State Association County Auditors":MAILTO:info@wsac.org
END:VEVENT
BEGIN:VEVENT
DTSTART;TZID=UTC:20180709T080000
DTEND;TZID=UTC:20180713T170000
DTSTAMP:20260422T102013
CREATED:20180618T210750Z
LAST-MODIFIED:20210729T171348Z
UID:502-1531123200-1531501200@ballottrax.com
SUMMARY:CACEO - California Association of Clerks and Election Officials
DESCRIPTION:110th Annual CACEO Conference\nThe conference theme is “Sailing into the Future”\, co-hosted and planned by Fresno\, Merced\, and Los Angeles counties.
URL:https://ballottrax.com/event/caceo-california-association-of-clerks-and-election-officials/
LOCATION:Renaissance Long Beach Hotel\, 111 E Ocean Blvd\, Long Beach\, CA\, 90802\, United States
CATEGORIES:Conference
ATTACH;FMTTYPE=image/png:https://ballottrax.com/wp-content/uploads/2018/06/Screen-Shot-2018-06-18-at-3.06.55-PM.png
END:VEVENT
BEGIN:VEVENT
DTSTART;TZID=UTC:20180612T080000
DTEND;TZID=UTC:20180615T170000
DTSTAMP:20260422T102013
CREATED:20180523T173810Z
LAST-MODIFIED:20210729T171354Z
UID:417-1528790400-1529082000@ballottrax.com
SUMMARY:WSACA Elections Conference
DESCRIPTION:Elections Conference\n\n\nJune 12-15\, 2018\nThe Davenport Grand Hotel
URL:https://ballottrax.com/event/wsaca-elections-conference/
LOCATION:The Davenport Grand Hotel\, 333 W. Spokane Falls Blvd\, Spokane\, WA\, 99201\, United States
CATEGORIES:Conference
ATTACH;FMTTYPE=image/png:https://ballottrax.com/wp-content/uploads/2018/05/Screen-Shot-2018-05-23-at-11.33.09-AM.png
ORGANIZER;CN="Washington State Association County Auditors":MAILTO:info@wsac.org
END:VEVENT
BEGIN:VEVENT
DTSTART;TZID=UTC:20180520T080000
DTEND;TZID=UTC:20180524T170000
DTSTAMP:20260422T102013
CREATED:20180523T173058Z
LAST-MODIFIED:20210729T171359Z
UID:413-1526803200-1527181200@ballottrax.com
SUMMARY:FSASE 2018 Annual Summer Conference
DESCRIPTION:FSASE meets at least twice a year\, once for an Annual Summer Conference/Convention and once for a Mid-Winter Conference. Supervisor of Elections staff\, state officials\, and Division of Elections staff are also invited to attend. Election vendors interested in attending or providing sponsorships/hospitality\, please contact fsase@bplawfirm.net.
URL:https://ballottrax.com/event/fsase-2018-annual-summer-conference/
LOCATION:Fort Lauderdale Marriott Harbor Beach Resort & Spa\, 3030 Holiday Drive\, Fort Lauderdale\, FL\, 33316\, United States
CATEGORIES:Conference
ATTACH;FMTTYPE=image/png:https://ballottrax.com/wp-content/uploads/2018/05/Screen-Shot-2018-05-23-at-11.29.43-AM.png
END:VEVENT
END:VCALENDAR